BEGIN:VCALENDAR
VERSION:2.0
PRODID:-//Hofuebergabe.ch - ECPv6.9.0//NONSGML v1.0//EN
CALSCALE:GREGORIAN
METHOD:PUBLISH
X-WR-CALNAME:Hofuebergabe.ch
X-ORIGINAL-URL:https://www.hofuebergabe.ch
X-WR-CALDESC:Events for Hofuebergabe.ch
REFRESH-INTERVAL;VALUE=DURATION:PT1H
X-Robots-Tag:noindex
X-PUBLISHED-TTL:PT1H
BEGIN:VTIMEZONE
TZID:Europe/Vienna
BEGIN:DAYLIGHT
TZOFFSETFROM:+0100
TZOFFSETTO:+0200
TZNAME:CEST
DTSTART:20250330T010000
END:DAYLIGHT
BEGIN:STANDARD
TZOFFSETFROM:+0200
TZOFFSETTO:+0100
TZNAME:CET
DTSTART:20251026T010000
END:STANDARD
END:VTIMEZONE
BEGIN:VEVENT
DTSTART;TZID=Europe/Vienna:20250121T090000
DTEND;TZID=Europe/Vienna:20250204T160000
DTSTAMP:20260420T044424
CREATED:20241028T123853Z
LAST-MODIFIED:20241029T142503Z
UID:207283-1737450000-1738684800@www.hofuebergabe.ch
SUMMARY:Gut vorbereitet auf die Hofübergabe
DESCRIPTION:Dies ist ein 2-tägiger Kurs. 1. Tag: 21. Januar; 2. Tag: 4. Februar 2025 \nDie Hofübergabe ist für alle Beteiligten eine wichtige und emotionale Angelegenheit. Deshalb ist es entscheidend\, rechtzeitig mit den Abklärungen zu beginnen und die Bedürfnisse aller Beteiligten zu kennen. Dazu gehören die Klärung der persönlichen Bedürfnisse beider Generationen zu den Themen Boden-\, Erb- und Pachtrecht\, Übernahmeanspruch\, Kauf- und Vorkaufsrechte\, Wohnrecht oder Miete\, Informationen zum neuen Schatzungsreglement\, mögliche Zusammenarbeitsformen\, Steuerfolgen einer Hofübergabe und Versicherungsfragen beim Generationenwechsel. \nZiele/Inhalt: Im Kurs werden persönliche Fragestellungen bei einer Hofübergabe diskutiert. Inhaltliche Schwerpunkt sind zudem die rechtlichen und vertraglichen Grundlagen sowie die Vor- und Nachteile verschiedener Übergabeformen. \nZielpublikum: Bauernfamilien\, für welche die Hofübergabe in nächster Zeit Realität wird. Der gemeinsame Kursbesuch der abtretenden und antretenden Generation ist sehr empfohlen. \nKursort: BBZ Natur und Ernährung Schüpfheim\nDatum/Zeit: Dienstag\, 21.01.2025; Dienstag\, 04.02.2025\, jeweils 09.00 bis 16.00 Uhr. \nKosten: Fr. 160.–; Paare Fr. 240.–; reduzierter Tarif für weitere Familienangehörige (ohne Verpflegung)\nAnmeldung: Bis 11.01.2025 | Link zur Anmeldung \nKursleitung: Anna Aregger\, BBZN\nReferenten: Anna Aregger\, BBZN; Heidy Jenni\, BBZN; Thomas Distel Versicherungsexperte LBV\, Sursee; Peter Estermann\, AGRO-Treuhand\, Sursee\nKursnr.: Bewi 5B \n 
URL:https://www.hofuebergabe.ch/veranstaltung/gut-vorbereitet-auf-die-hofuebergabe-2/
LOCATION:BBZN Schüpfheim\, Chlosterbüel 28\, Schüpfheim\, Luzern\, 6170\, Schweiz
CATEGORIES:Kostenpflichtig
END:VEVENT
BEGIN:VEVENT
DTSTART;VALUE=DATE:20250124
DTEND;VALUE=DATE:20250208
DTSTAMP:20260420T044424
CREATED:20241028T124558Z
LAST-MODIFIED:20241029T135615Z
UID:207289-1737676800-1738972799@www.hofuebergabe.ch
SUMMARY:Gut vorbereitet auf die Hofübergabe
DESCRIPTION:Dies ist ein 2-tägiger Kurs. 1. Tag: 24. Januar; 2. Tag: 7. Februar 2025 \nDie Hofübergabe ist für alle Beteiligten eine wichtige und emotionale Angelegenheit. Deshalb ist es entscheidend\, rechtzeitig mit den Abklärungen zu beginnen und die Bedürfnisse aller Beteiligten zu kennen. Dazu gehören die Klärung der persönlichen Bedürfnisse beider Generationen zu den Themen Boden-\, Erb- und Pachtrecht\, Übernahmeanspruch\, Kauf- und Vorkaufsrechte\, Wohnrecht oder Miete\, Informationen zum neuen Schatzungsreglement\, mögliche Zusammenarbeitsformen\, Steuerfolgen einer Hofübergabe und Versicherungsfragen beim Generationenwechsel. \nZiele/Inhalt: Im Kurs werden persönliche Fragestellungen bei einer Hofübergabe diskutiert. Inhaltliche Schwerpunkt sind zudem die rechtlichen und vertraglichen Grundlagen sowie die Vor- und Nachteile verschiedener Übergabeformen. \nZielpublikum: Bauernfamilien\, für welche die Hofübergabe in nächster Zeit Realität wird. Der gemeinsame Kursbesuch der abtretenden und antretenden Generation ist sehr empfohlen. \nKursort: BBZ Natur und Ernährung Hohenrain\nDatum/Zeit: Freitag\, 24.01.2025 und Freitag\, 07.02.2025\, jeweils 09.00 bis 16.00 Uhr \nKosten: Fr. 160.–; Paare Fr. 240.–; reduzierter Tarif für weitere Familienangehörige (ohne Verpflegung)\nAnmeldung: Bis 11.01.2025 | Link zur Anmeldung \nKursleitung: Beda Estermann\, BBZN\nReferenten: Beda Estermann\, BBZN; Heidy Jenni\, BBZN; Thomas Haas\, BBZN; Thomas Distel\, Versicherungsexperte LBV\, Sursee; Peter Estermann\, AGRO-Treuhand\, Sursee\nKursnr.: Bewi 5A
URL:https://www.hofuebergabe.ch/veranstaltung/gut-vorbereitet-auf-die-hofuebergabe-4/
LOCATION:BBZN Hohenrain\, Sennweidstrasse 35\, Hohenrain\, Luzern\, 6276\, Schweiz
CATEGORIES:Kostenpflichtig
END:VEVENT
END:VCALENDAR