BEGIN:VCALENDAR
VERSION:2.0
PRODID:-//Hofuebergabe.ch - ECPv6.9.0//NONSGML v1.0//EN
CALSCALE:GREGORIAN
METHOD:PUBLISH
X-ORIGINAL-URL:https://www.hofuebergabe.ch
X-WR-CALDESC:Events for Hofuebergabe.ch
REFRESH-INTERVAL;VALUE=DURATION:PT1H
X-Robots-Tag:noindex
X-PUBLISHED-TTL:PT1H
BEGIN:VTIMEZONE
TZID:Europe/Vienna
BEGIN:DAYLIGHT
TZOFFSETFROM:+0100
TZOFFSETTO:+0200
TZNAME:CEST
DTSTART:20250330T010000
END:DAYLIGHT
BEGIN:STANDARD
TZOFFSETFROM:+0200
TZOFFSETTO:+0100
TZNAME:CET
DTSTART:20251026T010000
END:STANDARD
END:VTIMEZONE
BEGIN:VEVENT
DTSTART;TZID=Europe/Vienna:20250311T200000
DTEND;TZID=Europe/Vienna:20250311T220000
DTSTAMP:20260420T030906
CREATED:20241028T125410Z
LAST-MODIFIED:20241028T125858Z
UID:207291-1741723200-1741730400@www.hofuebergabe.ch
SUMMARY:Kurs für Pächter oder Interessierte für Pachtbetriebe
DESCRIPTION:Grundlagen für gute Pachtverhältnisse \nZiele/Inhalt: Der Kurs gibt einen Überblick über die Grundlagen des landwirtschaftlichen Pachtrechts (LPG). Zudem gibt es Tipps für den Pachtvertrag und das Vorgehen\, wenn nicht alles nach Wunsch verläuft.\nDie Teilnehmenden…\nkennen die zentralen Artikel des landwirtschaftliche Pachtrechts (LPG)\nsind mit den Pflichten des Pächters und des Verpächters vertraut\nkönnen Vor- und Nachteile von Pächterinvestitionen abwägen\nsind in der Lage einen Pachtvertrag für ein Pachtverhältnis selber zu prüfen\nkennen Tipps für eine gutes Pachtverhältnis und können berechtigte Ansprüche geltend machen\nkennen ihre persönlichen Bedingungen für das Vertragsverhältnis \nZielpublikum: Pächterinnen und Pächter sowie Interessierte für Pachtbetriebe \nKursort: BBZ Natur und Ernährung Sursee\nDatum/Zeit: Dienstag\, 11.3.2025\, 20.00 – 22.00 Uhr \nKosten: CHF 40.-\nAnmeldung: Bis 01.03.2025 | Link zur Anmeldung \nKursleitung: Anna Aregger\, BBZN\nReferenten: Anna Aregger\, BBZN; Thomas Haas\, BBZN\nKursnr.: Bewi 8 \n 
URL:https://www.hofuebergabe.ch/veranstaltung/kurs-fuer-paechter-oder-interessierte-fuer-pachtbetriebe/
LOCATION:BBZN Sursee\, Centralstrasse 21\, Sursee\, Luzern\, 6210\, Schweiz
CATEGORIES:Kostenpflichtig
END:VEVENT
END:VCALENDAR