BEGIN:VCALENDAR
VERSION:2.0
PRODID:-//Hofuebergabe.ch - ECPv6.15.20//NONSGML v1.0//EN
CALSCALE:GREGORIAN
METHOD:PUBLISH
X-WR-CALNAME:Hofuebergabe.ch
X-ORIGINAL-URL:https://www.hofuebergabe.ch
X-WR-CALDESC:Veranstaltungen für Hofuebergabe.ch
REFRESH-INTERVAL;VALUE=DURATION:PT1H
X-Robots-Tag:noindex
X-PUBLISHED-TTL:PT1H
BEGIN:VTIMEZONE
TZID:Europe/Vienna
BEGIN:DAYLIGHT
TZOFFSETFROM:+0100
TZOFFSETTO:+0200
TZNAME:CEST
DTSTART:20250330T010000
END:DAYLIGHT
BEGIN:STANDARD
TZOFFSETFROM:+0200
TZOFFSETTO:+0100
TZNAME:CET
DTSTART:20251026T010000
END:STANDARD
BEGIN:DAYLIGHT
TZOFFSETFROM:+0100
TZOFFSETTO:+0200
TZNAME:CEST
DTSTART:20260329T010000
END:DAYLIGHT
BEGIN:STANDARD
TZOFFSETFROM:+0200
TZOFFSETTO:+0100
TZNAME:CET
DTSTART:20261025T010000
END:STANDARD
BEGIN:DAYLIGHT
TZOFFSETFROM:+0100
TZOFFSETTO:+0200
TZNAME:CEST
DTSTART:20270328T010000
END:DAYLIGHT
BEGIN:STANDARD
TZOFFSETFROM:+0200
TZOFFSETTO:+0100
TZNAME:CET
DTSTART:20271031T010000
END:STANDARD
END:VTIMEZONE
BEGIN:VEVENT
DTSTART;TZID=Europe/Vienna:20260212T090000
DTEND;TZID=Europe/Vienna:20260212T160000
DTSTAMP:20260421T102009
CREATED:20251216T164426Z
LAST-MODIFIED:20251216T164909Z
UID:225410-1770886800-1770912000@www.hofuebergabe.ch
SUMMARY:Ausserfamiliäre Hofübergabe
DESCRIPTION:Ausserfamiliäre Hofübergabe\nDieser Kurs ist für Betriebsleiter/-ehepaare\, welche die Betriebsaufgabe für die nächsten Jahre planen und keine familientinterne Nachfolge haben. \nZiele:\n• Sich über die verschiedenen Aspekte einer Hofaufgabe ohne familieninterne Nachfolge informieren.\n• Wichtige Elemente in der eigenen Situation erkennen\, um sich bestmöglich vorbereiten zu können. \nInhalt\n• Steuerliche Auswirkungen\n• Verkauf oder Verpachtung des Betriebes\n• Wohnsituation\n• Rechtliche Aspekte (Abwasser\, Beiträge à fonds perdus\, Investitionskredite\, Realteilungsverbot …)\n• Verwendung der Gebäude (Raumplanungsgesetz)\n• Finanzielle Situationen nach der Betriebsaufgabe\n• Ende der Direktzahlungsberechtigung \nKontakt \ngrangeneuve_fca@fr.ch\n+41 26 305 58 00\nOrt Rte de Grangeneuve 31\n1725 Posieux \nInformationen und Anmeldung unter diesem Link \nAnmeldungen bis am 12.01.2026 via grangeneuve-beratung.ch unter \nKosten:\nVulg-Mitglieder CHF 65.-*\nNicht-Mitglieder CHF 125.-*\n*Mahlzeit nicht inbegriffen \n• Der Kurs Ausserfamiliäre Hofübergabe findet alle 2 Jahre statt (nächstes Mal im Winter 2027/2028).\n• Die Teilnahme als Paar ist sehr erwünscht.
URL:https://www.hofuebergabe.ch/veranstaltung/ausserfamiliaere-hofuebergabe/
LOCATION:Grangeneuve\, Rte de Grangeneuve 31\, Posieux\, FR\, 1725\, Switzerland
CATEGORIES:Anmeldepflichtig,Kostenpflichtig
ATTACH;FMTTYPE=image/png:https://www.hofuebergabe.ch/wp-content/uploads/2025/12/grangeneuve.png
END:VEVENT
END:VCALENDAR