BEGIN:VCALENDAR
VERSION:2.0
PRODID:-//Hofuebergabe.ch - ECPv6.15.20//NONSGML v1.0//EN
CALSCALE:GREGORIAN
METHOD:PUBLISH
X-ORIGINAL-URL:https://www.hofuebergabe.ch
X-WR-CALDESC:Veranstaltungen für Hofuebergabe.ch
REFRESH-INTERVAL;VALUE=DURATION:PT1H
X-Robots-Tag:noindex
X-PUBLISHED-TTL:PT1H
BEGIN:VTIMEZONE
TZID:Europe/Vienna
BEGIN:DAYLIGHT
TZOFFSETFROM:+0100
TZOFFSETTO:+0200
TZNAME:CEST
DTSTART:20230326T010000
END:DAYLIGHT
BEGIN:STANDARD
TZOFFSETFROM:+0200
TZOFFSETTO:+0100
TZNAME:CET
DTSTART:20231029T010000
END:STANDARD
BEGIN:DAYLIGHT
TZOFFSETFROM:+0100
TZOFFSETTO:+0200
TZNAME:CEST
DTSTART:20240331T010000
END:DAYLIGHT
BEGIN:STANDARD
TZOFFSETFROM:+0200
TZOFFSETTO:+0100
TZNAME:CET
DTSTART:20241027T010000
END:STANDARD
BEGIN:DAYLIGHT
TZOFFSETFROM:+0100
TZOFFSETTO:+0200
TZNAME:CEST
DTSTART:20250330T010000
END:DAYLIGHT
BEGIN:STANDARD
TZOFFSETFROM:+0200
TZOFFSETTO:+0100
TZNAME:CET
DTSTART:20251026T010000
END:STANDARD
END:VTIMEZONE
BEGIN:VEVENT
DTSTART;TZID=Europe/Vienna:20241127T090000
DTEND;TZID=Europe/Vienna:20241127T160000
DTSTAMP:20260422T194652
CREATED:20241017T141340Z
LAST-MODIFIED:20241017T141340Z
UID:206455-1732698000-1732723200@www.hofuebergabe.ch
SUMMARY:Keine Hofnachfolge in der Familie - was nun?
DESCRIPTION:Bäuerinnen und Bauern\, die keine Hofnachfolge innerhalb der Familie haben\, wird aufgezeigt\, wie es mit dem Betrieb weiter gehen kann. Es bestehen verschieden Möglichkeiten. Deren rechtlichen\, finanziellen und steuerlichen Folgen werden aufgezeigt. Auch die emotionalen Herausforderungen und persönlichen Aspekte werden angesprochen. \nPreis: CHF 100.- für Einzelpersonen | CHF 150.- für Paare \nOrt: INFORAMA Rütti\, Rütti 5\, 3052 Zollikofen \nLink zur Anmeldung
URL:https://www.hofuebergabe.ch/veranstaltung/keine-hofnachfolge-in-der-familie-was-nun/
LOCATION:INFORAMA Rütti\, Rütti 5\, Zollikofen\, 3052
CATEGORIES:Kostenpflichtig
END:VEVENT
END:VCALENDAR