BEGIN:VCALENDAR
VERSION:2.0
PRODID:-//Hofuebergabe.ch - ECPv6.15.20//NONSGML v1.0//EN
CALSCALE:GREGORIAN
METHOD:PUBLISH
X-WR-CALNAME:Hofuebergabe.ch
X-ORIGINAL-URL:https://www.hofuebergabe.ch
X-WR-CALDESC:Veranstaltungen für Hofuebergabe.ch
REFRESH-INTERVAL;VALUE=DURATION:PT1H
X-Robots-Tag:noindex
X-PUBLISHED-TTL:PT1H
BEGIN:VTIMEZONE
TZID:Europe/Vienna
BEGIN:DAYLIGHT
TZOFFSETFROM:+0100
TZOFFSETTO:+0200
TZNAME:CEST
DTSTART:20240331T010000
END:DAYLIGHT
BEGIN:STANDARD
TZOFFSETFROM:+0200
TZOFFSETTO:+0100
TZNAME:CET
DTSTART:20241027T010000
END:STANDARD
BEGIN:DAYLIGHT
TZOFFSETFROM:+0100
TZOFFSETTO:+0200
TZNAME:CEST
DTSTART:20250330T010000
END:DAYLIGHT
BEGIN:STANDARD
TZOFFSETFROM:+0200
TZOFFSETTO:+0100
TZNAME:CET
DTSTART:20251026T010000
END:STANDARD
BEGIN:DAYLIGHT
TZOFFSETFROM:+0100
TZOFFSETTO:+0200
TZNAME:CEST
DTSTART:20260329T010000
END:DAYLIGHT
BEGIN:STANDARD
TZOFFSETFROM:+0200
TZOFFSETTO:+0100
TZNAME:CET
DTSTART:20261025T010000
END:STANDARD
END:VTIMEZONE
BEGIN:VEVENT
DTSTART;TZID=Europe/Vienna:20251007T090000
DTEND;TZID=Europe/Vienna:20251007T160000
DTSTAMP:20260420T220344
CREATED:20250422T101051Z
LAST-MODIFIED:20250422T101211Z
UID:215820-1759827600-1759852800@www.hofuebergabe.ch
SUMMARY:Hofkauf ausserhalb der Familie - Fokus Finanzierung
DESCRIPTION:Bei einer Hofübergabe ausserhalb der Familie empfiehlt sich eine frühzeitige Auseinandersetzung mit dem Thema Finanzierung. Der Kurs bietet Grundlagenwissen und die Möglichkeit zum Austausch mit ehemaligen Hofübergebern/-Übnernehmern sowie Fachpersonen. \nFolgende zentrale Punkte werden am Kurs thematisiert: \n– Überblick über gesetzliche Grundlagen. \n– Finanzierungsmöglichkeiten. \n– Soziale Aspekte / Kommunikation. \n– Anforderung der Kapitalgeber (Bernische Stiftung für Agrarkredite und Bank). \n– Erfahrungsberichte aus der Praxis. \nAnmeldepflichtig. Anmelden direkt auf der Webseite des Events. \n\n\n\nKurskosten \n \nFr. 135.00/Einzelperson; Fr. 200.00/Paare; zzgl. Verpflegung \n \n\n\nReferentin / Referent\nHodel Sophie\, Anlaufstelle Hofübergabe der Kleinbauernvereinigung; Oesch Hans\, Geschäftsführer BAK; Rindlisbacher Ueli\, Berater Hofnachfolge.ch; Stalder Stefan\, Geschäftsstellenleiter Valiant Bank AG Eggiwil und Langnau;
URL:https://www.hofuebergabe.ch/veranstaltung/hofkauf-ausserhalb-der-familie-fokus-finanzierung-2/
LOCATION:INFORAMA Rütti\, Rütti 5\, Zollikofen\, 3052
CATEGORIES:Anmeldepflichtig,Kostenpflichtig
ORGANIZER;CN="H%C3%A4nni Livia":MAILTO:livia.haenni@be.ch
END:VEVENT
BEGIN:VEVENT
DTSTART;TZID=Europe/Vienna:20251009T083000
DTEND;TZID=Europe/Vienna:20251009T163000
DTSTAMP:20260420T220344
CREATED:20250713T171207Z
LAST-MODIFIED:20250713T192110Z
UID:218711-1759998600-1760027400@www.hofuebergabe.ch
SUMMARY:Betriebsübergabe an und -führung durch Kollektive
DESCRIPTION:Die Land- und Ernährungswirtschaft ist aktuell diversen Herausforderungen ausgesetzt. Das Hofsterben schreitet voran. Betriebsübergabe an und -führung durch Kollektive kann ein ergänzendes Modell zu klassischen Familienbetrieben darstellen. Beratende erfahren die Erfolgsfaktoren für eine Betriebsübergabe an mehrere Personen und die gemeinschaftliche Übernahme von Verantwortung und Risiko. \nDie Teilnehmenden: \n\nErleben und erfahren\, wie die Betriebsübergabe an und -führung durch Kollektive gelingen kann und worauf es rechtlich und organisatorisch zu achten gilt;\n tauschen sich untereinander und mit erfahrenen Betriebsleitenden und Beratenden zu Chancen und Herausforderungen davon aus;\nzeigen Lücken in der Thematik auf.\n\nInhalte: \n\nErfolgsfaktoren für eine Betriebsübergabe an mehrere Personen und die gemeinschaftliche Übernahme von Verantwortung und Risiko.\n\n\nKursleitende: \n\nOrlando Scholz\, AGRIDEA (orlando.scholz@agridea.ch)\nMagali Lacam\, AGRIDEA (magali.lacam@agridea.ch)\nFlorian Peyer\, AGRIDEA (florian.peyer@agridea.ch)\n\nMethoden\, pädagogische Hilfsmittel\nVortrag\, Diskussionen\, Erfahrungsinput und -austausch\, Workshops\n\n\nBemerkungen: \n\nJede Person spricht in ihrer bevorzugten Sprache.\nHinweis: Dieser Kurs ist eine thematische Erweiterung und somit kein Ersatz für den gewöhnlichen Kurs «Hofübergabe».\n\n\nKostenpauschaule: 110.- Chf/Tag\n\n\nAnmeldung obligatorisch via Anmeldeformular \nMehr Informationen im PDF zum Download: AGridea Oct. 2025
URL:https://www.hofuebergabe.ch/veranstaltung/betriebsuebergabe-an-und-fuehrung-durch-kollektive/
LOCATION:Betriebe Elfenau\, Elfenauweg 94a\, Bern\, 3006\, Switzerland
CATEGORIES:Anmeldepflichtig,Kostenpflichtig
ATTACH;FMTTYPE=image/png:https://www.hofuebergabe.ch/wp-content/uploads/2025/07/Kurs-Agridea-Okt.-2025.png
ORGANIZER;CN="Agridea":MAILTO:kurse@agridea.ch
END:VEVENT
BEGIN:VEVENT
DTSTART;TZID=Europe/Vienna:20251019T100000
DTEND;TZID=Europe/Vienna:20251019T200000
DTSTAMP:20260420T220344
CREATED:20250929T080659Z
LAST-MODIFIED:20250929T080659Z
UID:222415-1760868000-1760904000@www.hofuebergabe.ch
SUMMARY:Accesso collectivo alla terra
DESCRIPTION:Festa e presentatione del manuale tradotto di Uniterre: „La terra a chi la coltiva! Accesso collectivo alla terra in Svizzera“ \nIl manuale per un accesso collettivo alla terra in Svizzera è stato tradotto da un gruppo di persone che ruotano attorno agli incontri della Giornata Contadina. La Giornata Contadina è una piattaforma di incontri conviviali di confronto su temi agricoli ed alimentari. \nIl testo originale\, in francese\, è stato concepito e redatto dalla commissione giovani di Uniterre\, un’organizzazione contadina indipendente che si impegna per un’agricoltura sostenibile\, redditizia e solidale. Oltre ad un’analisi delle difficoltà storiche e politiche per una proprietà collettiva della terra\, nel manuale vi sono contenute alcune possibili soluzioni per un’attività agricola più sostenibile e partecipata. L’appendice\, inedita in questa versione\, dà voce a testimonianze contadine della Svizzera italiana. \nVogliamo festeggiare con voi la pubblicazione della versione italiana\, ma anche continuare a discutere sulle tematiche trattate nel manuale. Per stimolare le riflessioni\, vi invitiamo ad una tavola rotonda \n  \nPrograma: \ndalle 10.00 Mercato contadino et artigianale  \ncon pranzo \n14.00 presentazione del manuale „La terra a chi la coltiva! Accesso collectivo alla terra in Svizzera“ \ntavola rotonda con i partecipanti: \n\nVeronica Frigerio\, giurista di Uniterre\nTex Tschurtschenthaler\, membro di CSA-Kooperationsstelle\nLidia Selldorf\, ortolana della cooperativa SEMiNTERRA!\nMichele Togni\, contadino e presidente ConProBio\nAlberto Pier Francesco\, consulente di AGRIDEA\nSophie Hodel\, collaboratrice della piattaforma Cessione aziendale\nfuori dalla famiglia\n\na seguire: musica e aperitivo fino alle 20.00 \nper info: giornata.contadina@protonmail.com \nlocalità: MANIMATTE\nVia Convento 10\nBellinzona \nfermate del bus:\n“bellinzona cimitero”\na “bellinzona ramarro”
URL:https://www.hofuebergabe.ch/veranstaltung/accesso-collectivo-alla-terra/
LOCATION:Manimatte\, Via Convento 10\, Bellinzona\, Ticino
ATTACH;FMTTYPE=image/png:https://www.hofuebergabe.ch/wp-content/uploads/2025/09/giornata-contadina.png
ORGANIZER;CN="Giornata Contadina":MAILTO:giornata.contadina@protonmail.com
END:VEVENT
END:VCALENDAR