BEGIN:VCALENDAR
VERSION:2.0
PRODID:-//Hofuebergabe.ch - ECPv6.9.0//NONSGML v1.0//EN
CALSCALE:GREGORIAN
METHOD:PUBLISH
X-ORIGINAL-URL:https://www.hofuebergabe.ch
X-WR-CALDESC:Events for Hofuebergabe.ch
REFRESH-INTERVAL;VALUE=DURATION:PT1H
X-Robots-Tag:noindex
X-PUBLISHED-TTL:PT1H
BEGIN:VTIMEZONE
TZID:Europe/Vienna
BEGIN:DAYLIGHT
TZOFFSETFROM:+0100
TZOFFSETTO:+0200
TZNAME:CEST
DTSTART:20250330T010000
END:DAYLIGHT
BEGIN:STANDARD
TZOFFSETFROM:+0200
TZOFFSETTO:+0100
TZNAME:CET
DTSTART:20251026T010000
END:STANDARD
END:VTIMEZONE
BEGIN:VEVENT
DTSTART;TZID=Europe/Vienna:20250617T170000
DTEND;TZID=Europe/Vienna:20250617T200000
DTSTAMP:20260419T195348
CREATED:20250603T114514Z
LAST-MODIFIED:20250603T114514Z
UID:217224-1750179600-1750190400@www.hofuebergabe.ch
SUMMARY:Les terres agricoles communales\, un levier pour l’avenir?
DESCRIPTION:Echallens accueille la Coalition terre pour une première soirée d’information à destination des communes vaudoises \nExemples et pistes de réflexion sur les terres agricoles publiques et les leviers qu’elles constituent pour le climat\, la biodiversité et l’alimentation durable. \nDéroulement de la soirée : \n\nAccueil dès 17h\n17h30 Présentations d’exemples concrets\, de travaux de recherche\, de projets agricoles soutenus par des communes\, et questions du public. (Programme et flyer en cours d’élaboration)\n19h30 Apéro paysan offert par la Coalition terre\n\n\n          Lien vers l’événement
URL:https://www.hofuebergabe.ch/veranstaltung/les-terres-agricoles-communales-un-levier-pour-lavenir/
LOCATION:Salle du Conseil d’Echallens (VD)\, Place du Château 4a\, Echallens\, VD\, 1040
END:VEVENT
END:VCALENDAR